BEGIN:VCALENDAR
VERSION:2.0
PRODID:-//hacksw/handcal//NONSGML v1.0//EN
CALSCALE:GREGORIAN
BEGIN:VEVENT
BEGIN:VALARM
TRIGGER:-PT24H
REPEAT:1
DURATION:PT22H
ACTION:DISPLAY
END:VALARM
X-WR-TIMEZONE:Europe/Rome
SUMMARY:Squinzano (LE)
LOCATION:Via Avvocato Croce\,   Squinzano (LE)
DESCRIPTION:Squinzano (LE)<br>Vieni a piantare un albero insieme a noi<br>Via Avvocato Croce\,   Squinzano (LE)<br>https://partecipa.ilblogdellestelle.it/t/activism/c/alberi-per-il-futuro/squinzano-le-2/
DTSTART:20191129T090000
DTEND:20191129T233000
URL;VALUE=URI:https://partecipa.ilblogdellestelle.it/t/activism/c/alberi-per-il-futuro/squinzano-le-2/
DTSTAMP:20260421T105311
UID:69e73af78fa7e
X-ALT-DESC;FMTTYPE=text/html:Squinzano (LE)<br>Vieni a piantare un albero insieme a noi<br>Via Avvocato Croce\,   Squinzano (LE)<br>https://partecipa.ilblogdellestelle.it/t/activism/c/alberi-per-il-futuro/squinzano-le-2/
END:VEVENT
END:VCALENDAR