BEGIN:VCALENDAR
VERSION:2.0
PRODID:-//hacksw/handcal//NONSGML v1.0//EN
CALSCALE:GREGORIAN
BEGIN:VEVENT
BEGIN:VALARM
TRIGGER:-PT24H
REPEAT:1
DURATION:PT22H
ACTION:DISPLAY
END:VALARM
X-WR-TIMEZONE:Europe/Rome
SUMMARY:Facilitatore imprese - Campania - Napoli
LOCATION:Napoli (NA)
DESCRIPTION:Facilitatore imprese - Campania - Napoli<br>Napoli (NA)<br>https://partecipa.ilblogdellestelle.it/t/standard/c/team-del-futuro/facilitatore-imprese-campania-napoli/
DTSTART:20191115T100000
DTEND:20191115T210000
URL;VALUE=URI:https://partecipa.ilblogdellestelle.it/t/standard/c/team-del-futuro/facilitatore-imprese-campania-napoli/
DTSTAMP:20260420T095627
UID:69e5dc2b2a09e
X-ALT-DESC;FMTTYPE=text/html:Facilitatore imprese - Campania - Napoli<br>Napoli (NA)<br>https://partecipa.ilblogdellestelle.it/t/standard/c/team-del-futuro/facilitatore-imprese-campania-napoli/
END:VEVENT
END:VCALENDAR