BEGIN:VCALENDAR
VERSION:2.0
PRODID:-//hacksw/handcal//NONSGML v1.0//EN
CALSCALE:GREGORIAN
BEGIN:VEVENT
BEGIN:VALARM
TRIGGER:-PT24H
REPEAT:1
DURATION:PT22H
ACTION:DISPLAY
END:VALARM
X-WR-TIMEZONE:Europe/Rome
SUMMARY:Rotondi (AV)
LOCATION:Via Pietro Nenni\,   Rotondi (AV)
DESCRIPTION:Rotondi (AV)<br>Vieni a piantare un albero insieme a noi<br>Via Pietro Nenni\,   Rotondi (AV)<br>https://partecipa.ilblogdellestelle.it/t/activism/c/alberi-per-il-futuro/rotondi-av/
DTSTART:20191116T090000
DTEND:20191116T110000
URL;VALUE=URI:https://partecipa.ilblogdellestelle.it/t/activism/c/alberi-per-il-futuro/rotondi-av/
DTSTAMP:20260420T220812
UID:69e687ace9992
X-ALT-DESC;FMTTYPE=text/html:Rotondi (AV)<br>Vieni a piantare un albero insieme a noi<br>Via Pietro Nenni\,   Rotondi (AV)<br>https://partecipa.ilblogdellestelle.it/t/activism/c/alberi-per-il-futuro/rotondi-av/
END:VEVENT
END:VCALENDAR