BEGIN:VCALENDAR
VERSION:2.0
PRODID:-//hacksw/handcal//NONSGML v1.0//EN
CALSCALE:GREGORIAN
BEGIN:VEVENT
BEGIN:VALARM
TRIGGER:-PT24H
REPEAT:1
DURATION:PT22H
ACTION:DISPLAY
END:VALARM
X-WR-TIMEZONE:Europe/Rome
SUMMARY:Bitonto (BA)
LOCATION:Via Benedetto Croce\, 4\,   Bitonto (BA)
DESCRIPTION:Bitonto (BA)<br>Scambiamo giocattoli usati per donarli ai bambini meno fortunati<br>Via Benedetto Croce\, 4\,   Bitonto (BA)<br>https://partecipa.ilblogdellestelle.it/t/activism/c/giocattoli-in-movimento/bitonto-ba-2/
DTSTART:20200105T100000
DTEND:20200105T130000
URL;VALUE=URI:https://partecipa.ilblogdellestelle.it/t/activism/c/giocattoli-in-movimento/bitonto-ba-2/
DTSTAMP:20260421T102029
UID:69e7334d33f18
X-ALT-DESC;FMTTYPE=text/html:Bitonto (BA)<br>Scambiamo giocattoli usati per donarli ai bambini meno fortunati<br>Via Benedetto Croce\, 4\,   Bitonto (BA)<br>https://partecipa.ilblogdellestelle.it/t/activism/c/giocattoli-in-movimento/bitonto-ba-2/
END:VEVENT
END:VCALENDAR