BEGIN:VCALENDAR
VERSION:2.0
PRODID:-//hacksw/handcal//NONSGML v1.0//EN
CALSCALE:GREGORIAN
BEGIN:VEVENT
BEGIN:VALARM
TRIGGER:-PT24H
REPEAT:1
DURATION:PT22H
ACTION:DISPLAY
END:VALARM
X-WR-TIMEZONE:Europe/Rome
SUMMARY:Fiumicino (RM)
LOCATION:Via della Foce Micina\,   Fiumicino (RM)
DESCRIPTION:Fiumicino (RM)<br>Scambiamo giocattoli usati per donarli ai bambini meno fortunati<br>Via della Foce Micina\,   Fiumicino (RM)<br>https://partecipa.ilblogdellestelle.it/t/activism/c/giocattoli-in-movimento/fiumicino-rm/
DTSTART:20200104T090000
DTEND:20200104T150000
URL;VALUE=URI:https://partecipa.ilblogdellestelle.it/t/activism/c/giocattoli-in-movimento/fiumicino-rm/
DTSTAMP:20260421T101622
UID:69e7325699853
X-ALT-DESC;FMTTYPE=text/html:Fiumicino (RM)<br>Scambiamo giocattoli usati per donarli ai bambini meno fortunati<br>Via della Foce Micina\,   Fiumicino (RM)<br>https://partecipa.ilblogdellestelle.it/t/activism/c/giocattoli-in-movimento/fiumicino-rm/
END:VEVENT
END:VCALENDAR