BEGIN:VCALENDAR
VERSION:2.0
PRODID:-//hacksw/handcal//NONSGML v1.0//EN
CALSCALE:GREGORIAN
BEGIN:VEVENT
BEGIN:VALARM
TRIGGER:-PT24H
REPEAT:1
DURATION:PT22H
ACTION:DISPLAY
END:VALARM
X-WR-TIMEZONE:Europe/Rome
SUMMARY:Carpi (MO)
LOCATION:Piazza Martiri\,   Carpi (MO)
DESCRIPTION:Carpi (MO)<br>Scambiamo giocattoli usati per donarli ai bambini meno fortunati<br>Piazza Martiri\,   Carpi (MO)<br>https://partecipa.ilblogdellestelle.it/t/activism/c/giocattoli-in-movimento/carpi-mo-2/
DTSTART:20191221T093000
DTEND:20191228T130000
URL;VALUE=URI:https://partecipa.ilblogdellestelle.it/t/activism/c/giocattoli-in-movimento/carpi-mo-2/
DTSTAMP:20260422T105833
UID:69e88db9da5a9
X-ALT-DESC;FMTTYPE=text/html:Carpi (MO)<br>Scambiamo giocattoli usati per donarli ai bambini meno fortunati<br>Piazza Martiri\,   Carpi (MO)<br>https://partecipa.ilblogdellestelle.it/t/activism/c/giocattoli-in-movimento/carpi-mo-2/
END:VEVENT
END:VCALENDAR