BEGIN:VCALENDAR
VERSION:2.0
PRODID:-//hacksw/handcal//NONSGML v1.0//EN
CALSCALE:GREGORIAN
BEGIN:VEVENT
BEGIN:VALARM
TRIGGER:-PT24H
REPEAT:1
DURATION:PT22H
ACTION:DISPLAY
END:VALARM
X-WR-TIMEZONE:Europe/Rome
SUMMARY:Limbiate (MB)
LOCATION:Piazza della Repubblica\,   Limbiate (MB)
DESCRIPTION:Limbiate (MB)<br>Scambiamo giocattoli usati per donarli ai bambini meno fortunati<br>Piazza della Repubblica\,   Limbiate (MB)<br>https://partecipa.ilblogdellestelle.it/t/activism/c/giocattoli-in-movimento/limbiate-mb/
DTSTART:20200106T090000
DTEND:20200106T130000
URL;VALUE=URI:https://partecipa.ilblogdellestelle.it/t/activism/c/giocattoli-in-movimento/limbiate-mb/
DTSTAMP:20260425T185406
UID:69ecf1ae7706a
X-ALT-DESC;FMTTYPE=text/html:Limbiate (MB)<br>Scambiamo giocattoli usati per donarli ai bambini meno fortunati<br>Piazza della Repubblica\,   Limbiate (MB)<br>https://partecipa.ilblogdellestelle.it/t/activism/c/giocattoli-in-movimento/limbiate-mb/
END:VEVENT
END:VCALENDAR