BEGIN:VCALENDAR
VERSION:2.0
PRODID:-//hacksw/handcal//NONSGML v1.0//EN
CALSCALE:GREGORIAN
BEGIN:VEVENT
BEGIN:VALARM
TRIGGER:-PT24H
REPEAT:1
DURATION:PT22H
ACTION:DISPLAY
END:VALARM
X-WR-TIMEZONE:Europe/Rome
SUMMARY:Casalpusterlengo (LO)
LOCATION:Piazza del Popolo\,   Casalpusterlengo (LO)
DESCRIPTION:Casalpusterlengo (LO)<br>Scambiamo giocattoli usati per donarli ai bambini meno fortunati<br>Piazza del Popolo\,   Casalpusterlengo (LO)<br>https://partecipa.ilblogdellestelle.it/t/activism/c/giocattoli-in-movimento/casalpusterlengo-lo-2/
DTSTART:20200112T093000
DTEND:20200112T120000
URL;VALUE=URI:https://partecipa.ilblogdellestelle.it/t/activism/c/giocattoli-in-movimento/casalpusterlengo-lo-2/
DTSTAMP:20260420T180557
UID:69e64ee579d3f
X-ALT-DESC;FMTTYPE=text/html:Casalpusterlengo (LO)<br>Scambiamo giocattoli usati per donarli ai bambini meno fortunati<br>Piazza del Popolo\,   Casalpusterlengo (LO)<br>https://partecipa.ilblogdellestelle.it/t/activism/c/giocattoli-in-movimento/casalpusterlengo-lo-2/
END:VEVENT
END:VCALENDAR