BEGIN:VCALENDAR
VERSION:2.0
PRODID:-//hacksw/handcal//NONSGML v1.0//EN
CALSCALE:GREGORIAN
BEGIN:VEVENT
BEGIN:VALARM
TRIGGER:-PT24H
REPEAT:1
DURATION:PT22H
ACTION:DISPLAY
END:VALARM
X-WR-TIMEZONE:Europe/Rome
SUMMARY:Calendario Santi Laici 2020
LOCATION:Milano\, MI
DESCRIPTION:Calendario Santi Laici 2020<br>Anche quest'anno arriva l'edizione 2020 del Calendario dei Santi laici\, un'idea di Gianroberto Casaleggio <br>Milano\, MI<br>https://partecipa.ilblogdellestelle.it/t/rousseau/c/ultime-da-rousseau/calendario-santi-laici-2020/
DTSTART:20200117T000100
DTEND:20200131T235900
URL;VALUE=URI:https://partecipa.ilblogdellestelle.it/t/rousseau/c/ultime-da-rousseau/calendario-santi-laici-2020/
DTSTAMP:20260421T163240
UID:69e78a88448e9
X-ALT-DESC;FMTTYPE=text/html:Calendario Santi Laici 2020<br>Anche quest'anno arriva l'edizione 2020 del Calendario dei Santi laici\, un'idea di Gianroberto Casaleggio <br>Milano\, MI<br>https://partecipa.ilblogdellestelle.it/t/rousseau/c/ultime-da-rousseau/calendario-santi-laici-2020/
END:VEVENT
END:VCALENDAR