BEGIN:VCALENDAR
VERSION:2.0
PRODID:-//hacksw/handcal//NONSGML v1.0//EN
CALSCALE:GREGORIAN
BEGIN:VEVENT
BEGIN:VALARM
TRIGGER:-PT24H
REPEAT:1
DURATION:PT22H
ACTION:DISPLAY
END:VALARM
X-WR-TIMEZONE:Europe/Rome
SUMMARY:Ferrara (FE)
LOCATION:Corso Porta Reno\,   Ferrara (FE)
DESCRIPTION:Ferrara (FE)<br>Sostieni Simone Benini\, candidato Presidente per il MoVimento 5 Stelle<br>Corso Porta Reno\,   Ferrara (FE)<br>https://partecipa.ilblogdellestelle.it/t/campagne-elettorali-m5s/c/elezioni-regionali-in-emilia-romagna/ferrara-fe/
DTSTART:20200118T150000
DTEND:20200118T163000
URL;VALUE=URI:https://partecipa.ilblogdellestelle.it/t/campagne-elettorali-m5s/c/elezioni-regionali-in-emilia-romagna/ferrara-fe/
DTSTAMP:20260425T224122
UID:69ed26f2b045c
X-ALT-DESC;FMTTYPE=text/html:Ferrara (FE)<br>Sostieni Simone Benini\, candidato Presidente per il MoVimento 5 Stelle<br>Corso Porta Reno\,   Ferrara (FE)<br>https://partecipa.ilblogdellestelle.it/t/campagne-elettorali-m5s/c/elezioni-regionali-in-emilia-romagna/ferrara-fe/
END:VEVENT
END:VCALENDAR