BEGIN:VCALENDAR
VERSION:2.0
PRODID:-//hacksw/handcal//NONSGML v1.0//EN
CALSCALE:GREGORIAN
BEGIN:VEVENT
BEGIN:VALARM
TRIGGER:-PT24H
REPEAT:1
DURATION:PT22H
ACTION:DISPLAY
END:VALARM
X-WR-TIMEZONE:Europe/Rome
SUMMARY:CESENATICO (FC)
LOCATION:Cesenatico (FC)
DESCRIPTION:CESENATICO (FC)<br>Sostieni Simone Benini\, candidato Presidente per il MoVimento 5 Stelle<br>Cesenatico (FC)<br>https://partecipa.ilblogdellestelle.it/t/campagne-elettorali-m5s/c/elezioni-regionali-in-emilia-romagna/cesenatico-fc-2/
DTSTART:20200124T093000
DTEND:20200124T120000
URL;VALUE=URI:https://partecipa.ilblogdellestelle.it/t/campagne-elettorali-m5s/c/elezioni-regionali-in-emilia-romagna/cesenatico-fc-2/
DTSTAMP:20260422T105751
UID:69e88d8f23888
X-ALT-DESC;FMTTYPE=text/html:CESENATICO (FC)<br>Sostieni Simone Benini\, candidato Presidente per il MoVimento 5 Stelle<br>Cesenatico (FC)<br>https://partecipa.ilblogdellestelle.it/t/campagne-elettorali-m5s/c/elezioni-regionali-in-emilia-romagna/cesenatico-fc-2/
END:VEVENT
END:VCALENDAR