BEGIN:VCALENDAR
VERSION:2.0
PRODID:-//hacksw/handcal//NONSGML v1.0//EN
CALSCALE:GREGORIAN
BEGIN:VEVENT
BEGIN:VALARM
TRIGGER:-PT24H
REPEAT:1
DURATION:PT22H
ACTION:DISPLAY
END:VALARM
X-WR-TIMEZONE:Europe/Rome
SUMMARY:Giornata informativa sul Reddito di Cittadinanza
LOCATION:Piazza Italia\, 1\,   Acqui Terme (AL)
DESCRIPTION:Giornata informativa sul Reddito di Cittadinanza<br>Giornata informativa rivolta ad amministratori locali e cittadini\, con i portavoce Susy Matrisciano e Nunzia Catalfo<br>Piazza Italia\, 1\,   Acqui Terme (AL)<br>https://partecipa.ilblogdellestelle.it/t/eventi-portavoce/c/territorio/giornata-informativa-sul-reddito-di-cittadinanza/
DTSTART:20200207T190000
DTEND:20200207T235959
URL;VALUE=URI:https://partecipa.ilblogdellestelle.it/t/eventi-portavoce/c/territorio/giornata-informativa-sul-reddito-di-cittadinanza/
DTSTAMP:20260421T104625
UID:69e7396148172
X-ALT-DESC;FMTTYPE=text/html:Giornata informativa sul Reddito di Cittadinanza<br>Giornata informativa rivolta ad amministratori locali e cittadini\, con i portavoce Susy Matrisciano e Nunzia Catalfo<br>Piazza Italia\, 1\,   Acqui Terme (AL)<br>https://partecipa.ilblogdellestelle.it/t/eventi-portavoce/c/territorio/giornata-informativa-sul-reddito-di-cittadinanza/
END:VEVENT
END:VCALENDAR