BEGIN:VCALENDAR
VERSION:2.0
PRODID:-//hacksw/handcal//NONSGML v1.0//EN
CALSCALE:GREGORIAN
BEGIN:VEVENT
BEGIN:VALARM
TRIGGER:-PT24H
REPEAT:1
DURATION:PT22H
ACTION:DISPLAY
END:VALARM
X-WR-TIMEZONE:Europe/Rome
SUMMARY:DONA UN LIBRO: PAROLE LUMINOSE DIETRO LE SBARRE
LOCATION:Via Carlotta Marchionni\, 3\,   Milano (MI)
DESCRIPTION:DONA UN LIBRO: PAROLE LUMINOSE DIETRO LE SBARRE<br>Insieme all'associazione Gli Ultimi Saranno e con Paola Carinelli<br>Via Carlotta Marchionni\, 3\,   Milano (MI)<br>https://partecipa.ilblogdellestelle.it/t/eventi-portavoce/c/territorio/dona-un-libro-parole-luminose-dietro-le-sbarre/
DTSTART:20200211T080000
DTEND:20200330T193000
URL;VALUE=URI:https://partecipa.ilblogdellestelle.it/t/eventi-portavoce/c/territorio/dona-un-libro-parole-luminose-dietro-le-sbarre/
DTSTAMP:20260421T104404
UID:69e738d4bd7da
X-ALT-DESC;FMTTYPE=text/html:DONA UN LIBRO: PAROLE LUMINOSE DIETRO LE SBARRE<br>Insieme all'associazione Gli Ultimi Saranno e con Paola Carinelli<br>Via Carlotta Marchionni\, 3\,   Milano (MI)<br>https://partecipa.ilblogdellestelle.it/t/eventi-portavoce/c/territorio/dona-un-libro-parole-luminose-dietro-le-sbarre/
END:VEVENT
END:VCALENDAR