BEGIN:VCALENDAR
VERSION:2.0
PRODID:-//hacksw/handcal//NONSGML v1.0//EN
CALSCALE:GREGORIAN
BEGIN:VEVENT
BEGIN:VALARM
TRIGGER:-PT24H
REPEAT:1
DURATION:PT22H
ACTION:DISPLAY
END:VALARM
X-WR-TIMEZONE:Europe/Rome
SUMMARY:L'innovazione digitale post Covid19
LOCATION:Iniziativa online
DESCRIPTION:L'innovazione digitale post Covid19<br>Opportunità\, vantaggi\, consapevolezza<br>Iniziativa online<br>https://partecipa.ilblogdellestelle.it/t/team-del-futuro/c/eventi-digitali-dei-facilitatori/linnovazione-digitale-post-covid19/
DTSTART:20200620T180000
DTEND:20200620T200000
URL;VALUE=URI:https://partecipa.ilblogdellestelle.it/t/team-del-futuro/c/eventi-digitali-dei-facilitatori/linnovazione-digitale-post-covid19/
DTSTAMP:20260422T111336
UID:69e89140e7e1a
X-ALT-DESC;FMTTYPE=text/html:L'innovazione digitale post Covid19<br>Opportunità\, vantaggi\, consapevolezza<br>Iniziativa online<br>https://partecipa.ilblogdellestelle.it/t/team-del-futuro/c/eventi-digitali-dei-facilitatori/linnovazione-digitale-post-covid19/
END:VEVENT
END:VCALENDAR