BEGIN:VCALENDAR
VERSION:2.0
PRODID:-//hacksw/handcal//NONSGML v1.0//EN
CALSCALE:GREGORIAN
BEGIN:VEVENT
BEGIN:VALARM
TRIGGER:-PT24H
REPEAT:1
DURATION:PT22H
ACTION:DISPLAY
END:VALARM
X-WR-TIMEZONE:Europe/Rome
SUMMARY:Incontro periodico con gli attivisti e i simpatizzanti della Provincia di Belluno
LOCATION:Iniziativa online
DESCRIPTION:Incontro periodico con gli attivisti e i simpatizzanti della Provincia di Belluno<br>Confrontiamoci su idee\, progetti e prossimi obiettivi<br>Iniziativa online<br>https://partecipa.ilblogdellestelle.it/t/team-del-futuro/c/eventi-digitali-dei-facilitatori/incontro-periodico-con-gli-attivisti-e-i-simpatizzanti-della-provincia-di-belluno/
DTSTART:20200713T210000
DTEND:20200713T233000
URL;VALUE=URI:https://partecipa.ilblogdellestelle.it/t/team-del-futuro/c/eventi-digitali-dei-facilitatori/incontro-periodico-con-gli-attivisti-e-i-simpatizzanti-della-provincia-di-belluno/
DTSTAMP:20260421T101714
UID:69e7328a43115
X-ALT-DESC;FMTTYPE=text/html:Incontro periodico con gli attivisti e i simpatizzanti della Provincia di Belluno<br>Confrontiamoci su idee\, progetti e prossimi obiettivi<br>Iniziativa online<br>https://partecipa.ilblogdellestelle.it/t/team-del-futuro/c/eventi-digitali-dei-facilitatori/incontro-periodico-con-gli-attivisti-e-i-simpatizzanti-della-provincia-di-belluno/
END:VEVENT
END:VCALENDAR