BEGIN:VCALENDAR
VERSION:2.0
PRODID:-//hacksw/handcal//NONSGML v1.0//EN
CALSCALE:GREGORIAN
BEGIN:VEVENT
BEGIN:VALARM
TRIGGER:-PT24H
REPEAT:1
DURATION:PT22H
ACTION:DISPLAY
END:VALARM
X-WR-TIMEZONE:Europe/Rome
SUMMARY:Political Participation Canvas
LOCATION:Iniziativa online
DESCRIPTION:Political Participation Canvas<br>Dall’Idea al Progetto: proposte di sviluppo urbano in vista degli appuntamenti elettorali<br>Iniziativa online<br>https://partecipa.ilblogdellestelle.it/t/rousseau/c/scuola-open-comuni/political-participation-canvas/
DTSTART:20200717T193000
DTEND:20200717T210000
URL;VALUE=URI:https://partecipa.ilblogdellestelle.it/t/rousseau/c/scuola-open-comuni/political-participation-canvas/
DTSTAMP:20260422T002821
UID:69e7fa0530603
X-ALT-DESC;FMTTYPE=text/html:Political Participation Canvas<br>Dall’Idea al Progetto: proposte di sviluppo urbano in vista degli appuntamenti elettorali<br>Iniziativa online<br>https://partecipa.ilblogdellestelle.it/t/rousseau/c/scuola-open-comuni/political-participation-canvas/
END:VEVENT
END:VCALENDAR