BEGIN:VCALENDAR
VERSION:2.0
PRODID:-//hacksw/handcal//NONSGML v1.0//EN
CALSCALE:GREGORIAN
BEGIN:VEVENT
BEGIN:VALARM
TRIGGER:-PT24H
REPEAT:1
DURATION:PT22H
ACTION:DISPLAY
END:VALARM
X-WR-TIMEZONE:Europe/Rome
SUMMARY:Presentazione del Villaggio Rousseau - le Olimpiadi delle idee
LOCATION:Iniziativa online
DESCRIPTION:Presentazione del Villaggio Rousseau - le Olimpiadi delle idee<br>Scopri tutte le novità partecipando all’evento di presentazione<br>Iniziativa online<br>https://partecipa.ilblogdellestelle.it/t/rousseau/c/villaggio-rousseau/presentazione-del-villaggio-rousseau-le-olimpiadi-delle-idee/
DTSTART:20200721T100000
DTEND:20200721T110000
URL;VALUE=URI:https://partecipa.ilblogdellestelle.it/t/rousseau/c/villaggio-rousseau/presentazione-del-villaggio-rousseau-le-olimpiadi-delle-idee/
DTSTAMP:20260422T105936
UID:69e88df86535c
X-ALT-DESC;FMTTYPE=text/html:Presentazione del Villaggio Rousseau - le Olimpiadi delle idee<br>Scopri tutte le novità partecipando all’evento di presentazione<br>Iniziativa online<br>https://partecipa.ilblogdellestelle.it/t/rousseau/c/villaggio-rousseau/presentazione-del-villaggio-rousseau-le-olimpiadi-delle-idee/
END:VEVENT
END:VCALENDAR