BEGIN:VCALENDAR
VERSION:2.0
PRODID:-//hacksw/handcal//NONSGML v1.0//EN
CALSCALE:GREGORIAN
BEGIN:VEVENT
BEGIN:VALARM
TRIGGER:-PT24H
REPEAT:1
DURATION:PT22H
ACTION:DISPLAY
END:VALARM
X-WR-TIMEZONE:Europe/Rome
SUMMARY:ANNULLATO! Gli ultimi saranno
LOCATION:Via Belgioiso\,   Baranzate (MI)
DESCRIPTION:ANNULLATO! Gli ultimi saranno<br>Rito di improvvisazione\, con Raffaele Bruno<br>Via Belgioiso\,   Baranzate (MI)<br>https://partecipa.ilblogdellestelle.it/t/eventi-portavoce/c/territorio/gli-ultimi-saranno-4/
DTSTART:20200323T100000
DTEND:20200323T130000
URL;VALUE=URI:https://partecipa.ilblogdellestelle.it/t/eventi-portavoce/c/territorio/gli-ultimi-saranno-4/
DTSTAMP:20260422T105620
UID:69e88d344419a
X-ALT-DESC;FMTTYPE=text/html:ANNULLATO! Gli ultimi saranno<br>Rito di improvvisazione\, con Raffaele Bruno<br>Via Belgioiso\,   Baranzate (MI)<br>https://partecipa.ilblogdellestelle.it/t/eventi-portavoce/c/territorio/gli-ultimi-saranno-4/
END:VEVENT
END:VCALENDAR