BEGIN:VCALENDAR
VERSION:2.0
PRODID:-//hacksw/handcal//NONSGML v1.0//EN
CALSCALE:GREGORIAN
BEGIN:VEVENT
BEGIN:VALARM
TRIGGER:-PT24H
REPEAT:1
DURATION:PT22H
ACTION:DISPLAY
END:VALARM
X-WR-TIMEZONE:Europe/Rome
SUMMARY:Cassino (FR)
LOCATION:Corso della Repubblica\,   Cassino (FR)
DESCRIPTION:Cassino (FR)<br>Vieni a scoprire le ragioni del Sì al referendum del 20 e 21 settembre<br>Corso della Repubblica\,   Cassino (FR)<br>https://partecipa.ilblogdellestelle.it/t/activism/c/votasiday/cassino-fr-2/
DTSTART:20200912T100000
DTEND:20200912T200000
URL;VALUE=URI:https://partecipa.ilblogdellestelle.it/t/activism/c/votasiday/cassino-fr-2/
DTSTAMP:20260422T012356
UID:69e8070c6c707
X-ALT-DESC;FMTTYPE=text/html:Cassino (FR)<br>Vieni a scoprire le ragioni del Sì al referendum del 20 e 21 settembre<br>Corso della Repubblica\,   Cassino (FR)<br>https://partecipa.ilblogdellestelle.it/t/activism/c/votasiday/cassino-fr-2/
END:VEVENT
END:VCALENDAR