BEGIN:VCALENDAR
VERSION:2.0
PRODID:-//hacksw/handcal//NONSGML v1.0//EN
CALSCALE:GREGORIAN
BEGIN:VEVENT
BEGIN:VALARM
TRIGGER:-PT24H
REPEAT:1
DURATION:PT22H
ACTION:DISPLAY
END:VALARM
X-WR-TIMEZONE:Europe/Rome
SUMMARY:Cervinara (AV)
LOCATION:Via Avvocato Carlo de Bellis\, 18\,   Cervinara (AV)
DESCRIPTION:Cervinara (AV)<br>Vieni a scoprire le ragioni del Sì al referendum del 20 e 21 settembre<br>Via Avvocato Carlo de Bellis\, 18\,   Cervinara (AV)<br>https://partecipa.ilblogdellestelle.it/t/activism/c/votasiday/cervinara-av/
DTSTART:20200912T093000
DTEND:20200912T203000
URL;VALUE=URI:https://partecipa.ilblogdellestelle.it/t/activism/c/votasiday/cervinara-av/
DTSTAMP:20260422T113859
UID:69e8973321073
X-ALT-DESC;FMTTYPE=text/html:Cervinara (AV)<br>Vieni a scoprire le ragioni del Sì al referendum del 20 e 21 settembre<br>Via Avvocato Carlo de Bellis\, 18\,   Cervinara (AV)<br>https://partecipa.ilblogdellestelle.it/t/activism/c/votasiday/cervinara-av/
END:VEVENT
END:VCALENDAR