BEGIN:VCALENDAR
VERSION:2.0
PRODID:-//hacksw/handcal//NONSGML v1.0//EN
CALSCALE:GREGORIAN
BEGIN:VEVENT
BEGIN:VALARM
TRIGGER:-PT24H
REPEAT:1
DURATION:PT22H
ACTION:DISPLAY
END:VALARM
X-WR-TIMEZONE:Europe/Rome
SUMMARY:Vicenza (VI)
LOCATION:Vicenza (VI)
DESCRIPTION:Vicenza (VI)<br>Vieni a scoprire le ragioni del Sì al referendum del 20 e 21 settembre<br>Vicenza (VI)<br>https://partecipa.ilblogdellestelle.it/t/activism/c/votasiday/vicenza-vi/
DTSTART:20200912T093000
DTEND:20200912T180000
URL;VALUE=URI:https://partecipa.ilblogdellestelle.it/t/activism/c/votasiday/vicenza-vi/
DTSTAMP:20260421T105358
UID:69e73b264d24b
X-ALT-DESC;FMTTYPE=text/html:Vicenza (VI)<br>Vieni a scoprire le ragioni del Sì al referendum del 20 e 21 settembre<br>Vicenza (VI)<br>https://partecipa.ilblogdellestelle.it/t/activism/c/votasiday/vicenza-vi/
END:VEVENT
END:VCALENDAR