BEGIN:VCALENDAR
VERSION:2.0
PRODID:-//hacksw/handcal//NONSGML v1.0//EN
CALSCALE:GREGORIAN
BEGIN:VEVENT
BEGIN:VALARM
TRIGGER:-PT24H
REPEAT:1
DURATION:PT22H
ACTION:DISPLAY
END:VALARM
X-WR-TIMEZONE:Europe/Rome
SUMMARY:Schio (VI)
LOCATION:Schio (VI)
DESCRIPTION:Schio (VI)<br>Vieni a scoprire le ragioni del Sì al referendum del 20 e 21 settembre<br>Schio (VI)<br>https://partecipa.ilblogdellestelle.it/t/activism/c/votasiday/schio-vi/
DTSTART:20200912T083000
DTEND:20200912T130000
URL;VALUE=URI:https://partecipa.ilblogdellestelle.it/t/activism/c/votasiday/schio-vi/
DTSTAMP:20260421T103859
UID:69e737a31af56
X-ALT-DESC;FMTTYPE=text/html:Schio (VI)<br>Vieni a scoprire le ragioni del Sì al referendum del 20 e 21 settembre<br>Schio (VI)<br>https://partecipa.ilblogdellestelle.it/t/activism/c/votasiday/schio-vi/
END:VEVENT
END:VCALENDAR