BEGIN:VCALENDAR
VERSION:2.0
PRODID:-//hacksw/handcal//NONSGML v1.0//EN
CALSCALE:GREGORIAN
BEGIN:VEVENT
BEGIN:VALARM
TRIGGER:-PT24H
REPEAT:1
DURATION:PT22H
ACTION:DISPLAY
END:VALARM
X-WR-TIMEZONE:Europe/Rome
SUMMARY:Dozza (BO)
LOCATION:Via Emilia Ponente  Via Emilia Ponente\, Città Metropolitana di Bologna
DESCRIPTION:Dozza (BO)<br>Vieni a scoprire le ragioni del Sì al referendum del 20 e 21 settembre<br>Via Emilia Ponente  Via Emilia Ponente\, Città Metropolitana di Bologna<br>https://partecipa.ilblogdellestelle.it/t/activism/c/votasiday/dozza-bo/
DTSTART:20200912T100000
DTEND:20200912T140000
URL;VALUE=URI:https://partecipa.ilblogdellestelle.it/t/activism/c/votasiday/dozza-bo/
DTSTAMP:20260422T105840
UID:69e88dc0a071a
X-ALT-DESC;FMTTYPE=text/html:Dozza (BO)<br>Vieni a scoprire le ragioni del Sì al referendum del 20 e 21 settembre<br>Via Emilia Ponente  Via Emilia Ponente\, Città Metropolitana di Bologna<br>https://partecipa.ilblogdellestelle.it/t/activism/c/votasiday/dozza-bo/
END:VEVENT
END:VCALENDAR