BEGIN:VCALENDAR
VERSION:2.0
PRODID:-//hacksw/handcal//NONSGML v1.0//EN
CALSCALE:GREGORIAN
BEGIN:VEVENT
BEGIN:VALARM
TRIGGER:-PT24H
REPEAT:1
DURATION:PT22H
ACTION:DISPLAY
END:VALARM
X-WR-TIMEZONE:Europe/Rome
SUMMARY:Castrignano del Capo (LE)
LOCATION:Lungomare Cristoforo Colombo\,   Castrignano del capo (LE)
DESCRIPTION:Castrignano del Capo (LE)<br>Vieni a scoprire le ragioni del Sì al referendum del 20 e 21 settembre<br>Lungomare Cristoforo Colombo\,   Castrignano del capo (LE)<br>https://partecipa.ilblogdellestelle.it/t/activism/c/votasiday/castrignano-del-capo-le/
DTSTART:20200912T200000
DTEND:20200912T213000
URL;VALUE=URI:https://partecipa.ilblogdellestelle.it/t/activism/c/votasiday/castrignano-del-capo-le/
DTSTAMP:20260419T212859
UID:69e52cfbbb7c7
X-ALT-DESC;FMTTYPE=text/html:Castrignano del Capo (LE)<br>Vieni a scoprire le ragioni del Sì al referendum del 20 e 21 settembre<br>Lungomare Cristoforo Colombo\,   Castrignano del capo (LE)<br>https://partecipa.ilblogdellestelle.it/t/activism/c/votasiday/castrignano-del-capo-le/
END:VEVENT
END:VCALENDAR