BEGIN:VCALENDAR
VERSION:2.0
PRODID:-//hacksw/handcal//NONSGML v1.0//EN
CALSCALE:GREGORIAN
BEGIN:VEVENT
BEGIN:VALARM
TRIGGER:-PT24H
REPEAT:1
DURATION:PT22H
ACTION:DISPLAY
END:VALARM
X-WR-TIMEZONE:Europe/Rome
SUMMARY:Ispica (RG)
LOCATION:Piazza dell'Unità d'Italia\,   Ispica (RG)
DESCRIPTION:Ispica (RG)<br>Vieni a scoprire le ragioni del Sì al referendum del 20 e 21 settembre<br>Piazza dell'Unità d'Italia\,   Ispica (RG)<br>https://partecipa.ilblogdellestelle.it/t/activism/c/votasiday/ispica-rg/
DTSTART:20200912T180000
DTEND:20200912T200000
URL;VALUE=URI:https://partecipa.ilblogdellestelle.it/t/activism/c/votasiday/ispica-rg/
DTSTAMP:20260425T144257
UID:69ecb6d124758
X-ALT-DESC;FMTTYPE=text/html:Ispica (RG)<br>Vieni a scoprire le ragioni del Sì al referendum del 20 e 21 settembre<br>Piazza dell'Unità d'Italia\,   Ispica (RG)<br>https://partecipa.ilblogdellestelle.it/t/activism/c/votasiday/ispica-rg/
END:VEVENT
END:VCALENDAR