BEGIN:VCALENDAR
VERSION:2.0
PRODID:-//hacksw/handcal//NONSGML v1.0//EN
CALSCALE:GREGORIAN
BEGIN:VEVENT
BEGIN:VALARM
TRIGGER:-PT24H
REPEAT:1
DURATION:PT22H
ACTION:DISPLAY
END:VALARM
X-WR-TIMEZONE:Europe/Rome
SUMMARY:Casandrino (NA)
LOCATION:Piazza Umberto I\,   Casandrino (NA)
DESCRIPTION:Casandrino (NA)<br>Vieni a scoprire le ragioni del Sì al referendum del 20 e 21 settembre<br>Piazza Umberto I\,   Casandrino (NA)<br>https://partecipa.ilblogdellestelle.it/t/activism/c/votasiday/casandrino-na/
DTSTART:20200912T103000
DTEND:20200912T130000
URL;VALUE=URI:https://partecipa.ilblogdellestelle.it/t/activism/c/votasiday/casandrino-na/
DTSTAMP:20260421T191447
UID:69e7b0877828e
X-ALT-DESC;FMTTYPE=text/html:Casandrino (NA)<br>Vieni a scoprire le ragioni del Sì al referendum del 20 e 21 settembre<br>Piazza Umberto I\,   Casandrino (NA)<br>https://partecipa.ilblogdellestelle.it/t/activism/c/votasiday/casandrino-na/
END:VEVENT
END:VCALENDAR