BEGIN:VCALENDAR
VERSION:2.0
PRODID:-//hacksw/handcal//NONSGML v1.0//EN
CALSCALE:GREGORIAN
BEGIN:VEVENT
BEGIN:VALARM
TRIGGER:-PT24H
REPEAT:1
DURATION:PT22H
ACTION:DISPLAY
END:VALARM
X-WR-TIMEZONE:Europe/Rome
SUMMARY:Senigallia (AN)
LOCATION:Piazza Roma\,   Senigallia (AN)
DESCRIPTION:Senigallia (AN)<br>Vieni a scoprire le ragioni del Sì al referendum del 20 e 21 settembre<br>Piazza Roma\,   Senigallia (AN)<br>https://partecipa.ilblogdellestelle.it/t/activism/c/votasiday/senigallia-an/
DTSTART:20200912T210000
DTEND:20200912T220000
URL;VALUE=URI:https://partecipa.ilblogdellestelle.it/t/activism/c/votasiday/senigallia-an/
DTSTAMP:20260422T123612
UID:69e8a49c2dd75
X-ALT-DESC;FMTTYPE=text/html:Senigallia (AN)<br>Vieni a scoprire le ragioni del Sì al referendum del 20 e 21 settembre<br>Piazza Roma\,   Senigallia (AN)<br>https://partecipa.ilblogdellestelle.it/t/activism/c/votasiday/senigallia-an/
END:VEVENT
END:VCALENDAR