BEGIN:VCALENDAR
VERSION:2.0
PRODID:-//hacksw/handcal//NONSGML v1.0//EN
CALSCALE:GREGORIAN
BEGIN:VEVENT
BEGIN:VALARM
TRIGGER:-PT24H
REPEAT:1
DURATION:PT22H
ACTION:DISPLAY
END:VALARM
X-WR-TIMEZONE:Europe/Rome
SUMMARY:Acqua fonte di democrazia
LOCATION:Non specificato
DESCRIPTION:Acqua fonte di democrazia<br>Non specificato<br>https://partecipa.ilblogdellestelle.it/t/team-del-futuro/c/eventi-digitali-dei-facilitatori/acqua-fonte-di-democrazia/
DTSTART:20201127T180000
DTEND:20201127T220000
URL;VALUE=URI:https://partecipa.ilblogdellestelle.it/t/team-del-futuro/c/eventi-digitali-dei-facilitatori/acqua-fonte-di-democrazia/
DTSTAMP:20260424T155958
UID:69eb775ea6297
X-ALT-DESC;FMTTYPE=text/html:Acqua fonte di democrazia<br>Non specificato<br>https://partecipa.ilblogdellestelle.it/t/team-del-futuro/c/eventi-digitali-dei-facilitatori/acqua-fonte-di-democrazia/
END:VEVENT
END:VCALENDAR