BEGIN:VCALENDAR
VERSION:2.0
PRODID:-//hacksw/handcal//NONSGML v1.0//EN
CALSCALE:GREGORIAN
BEGIN:VEVENT
BEGIN:VALARM
TRIGGER:-PT24H
REPEAT:1
DURATION:PT22H
ACTION:DISPLAY
END:VALARM
X-WR-TIMEZONE:Europe/Rome
SUMMARY:Stabilizzazione LSU ed LPU Calabria
LOCATION:Iniziativa online
DESCRIPTION:Stabilizzazione LSU ed LPU Calabria<br>parliamone con i protagonisti<br>Iniziativa online<br>https://partecipa.ilblogdellestelle.it/t/eventi-portavoce/c/eventi-digitali-dei-portavoce/stabilizzazione-lsu-ed-lpu-calabria/
DTSTART:20201218T210000
DTEND:20201218T235959
URL;VALUE=URI:https://partecipa.ilblogdellestelle.it/t/eventi-portavoce/c/eventi-digitali-dei-portavoce/stabilizzazione-lsu-ed-lpu-calabria/
DTSTAMP:20260422T105918
UID:69e88de6e9baf
X-ALT-DESC;FMTTYPE=text/html:Stabilizzazione LSU ed LPU Calabria<br>parliamone con i protagonisti<br>Iniziativa online<br>https://partecipa.ilblogdellestelle.it/t/eventi-portavoce/c/eventi-digitali-dei-portavoce/stabilizzazione-lsu-ed-lpu-calabria/
END:VEVENT
END:VCALENDAR