BEGIN:VCALENDAR
VERSION:2.0
PRODID:-//hacksw/handcal//NONSGML v1.0//EN
CALSCALE:GREGORIAN
BEGIN:VEVENT
BEGIN:VALARM
TRIGGER:-PT24H
REPEAT:1
DURATION:PT22H
ACTION:DISPLAY
END:VALARM
X-WR-TIMEZONE:Europe/Rome
SUMMARY:Attivisti\, MoVimento 5 Stelle\, Portavoce... cosa cambierà? Ne parliamo con la Deputata Angela Raffa
LOCATION:Iniziativa online
DESCRIPTION:Attivisti\, MoVimento 5 Stelle\, Portavoce... cosa cambierà? Ne parliamo con la Deputata Angela Raffa<br>Un'analisi dell'attuale situazione. Tante cose cambieranno. La deputata Angela Raffa risponderà alle vostre domande e vi informerà degli ultimi sviluppi. <br>Iniziativa online<br>https://partecipa.ilblogdellestelle.it/t/eventi-portavoce/c/eventi-digitali-dei-portavoce/attivisti-movimento-5-stelle-portavoce-cosa-cambiera-ne-parliamo-con-la-deputata-angela-raffa/
DTSTART:20210305T213000
DTEND:20210305T235900
URL;VALUE=URI:https://partecipa.ilblogdellestelle.it/t/eventi-portavoce/c/eventi-digitali-dei-portavoce/attivisti-movimento-5-stelle-portavoce-cosa-cambiera-ne-parliamo-con-la-deputata-angela-raffa/
DTSTAMP:20260421T104222
UID:69e7386e9855a
X-ALT-DESC;FMTTYPE=text/html:Attivisti\, MoVimento 5 Stelle\, Portavoce... cosa cambierà? Ne parliamo con la Deputata Angela Raffa<br>Un'analisi dell'attuale situazione. Tante cose cambieranno. La deputata Angela Raffa risponderà alle vostre domande e vi informerà degli ultimi sviluppi. <br>Iniziativa online<br>https://partecipa.ilblogdellestelle.it/t/eventi-portavoce/c/eventi-digitali-dei-portavoce/attivisti-movimento-5-stelle-portavoce-cosa-cambiera-ne-parliamo-con-la-deputata-angela-raffa/
END:VEVENT
END:VCALENDAR