BEGIN:VCALENDAR
VERSION:2.0
PRODID:-//hacksw/handcal//NONSGML v1.0//EN
CALSCALE:GREGORIAN
BEGIN:VEVENT
BEGIN:VALARM
TRIGGER:-PT24H
REPEAT:1
DURATION:PT22H
ACTION:DISPLAY
END:VALARM
X-WR-TIMEZONE:Europe/Rome
SUMMARY:Alberi per il Futuro - Grosseto
LOCATION:Via Anco Marzio\,   Grosseto (GR)
DESCRIPTION:Alberi per il Futuro - Grosseto<br>Edizione 2023<br>Via Anco Marzio\,   Grosseto (GR)<br>https://partecipa.ilblogdellestelle.it/t/activism/c/alberi-per-il-futuro/alberi-per-il-futuro-grosseto-2/
DTSTART:20231121T100000
DTEND:20231121T110000
URL;VALUE=URI:https://partecipa.ilblogdellestelle.it/t/activism/c/alberi-per-il-futuro/alberi-per-il-futuro-grosseto-2/
DTSTAMP:20260421T185848
UID:69e7acc88accc
X-ALT-DESC;FMTTYPE=text/html:Alberi per il Futuro - Grosseto<br>Edizione 2023<br>Via Anco Marzio\,   Grosseto (GR)<br>https://partecipa.ilblogdellestelle.it/t/activism/c/alberi-per-il-futuro/alberi-per-il-futuro-grosseto-2/
END:VEVENT
END:VCALENDAR