BEGIN:VCALENDAR
VERSION:2.0
PRODID:-//hacksw/handcal//NONSGML v1.0//EN
CALSCALE:GREGORIAN
BEGIN:VEVENT
BEGIN:VALARM
TRIGGER:-PT24H
REPEAT:1
DURATION:PT22H
ACTION:DISPLAY
END:VALARM
X-WR-TIMEZONE:Europe/Rome
SUMMARY:Alberi per il Futuro - Bari
LOCATION:Viale Archimede\, 11\,   Bari (BA)
DESCRIPTION:Alberi per il Futuro - Bari<br>Edizione 2023<br>Viale Archimede\, 11\,   Bari (BA)<br>https://partecipa.ilblogdellestelle.it/t/activism/c/alberi-per-il-futuro/alberi-per-il-futuro-bari/
DTSTART:20231119T103000
DTEND:20231119T130000
URL;VALUE=URI:https://partecipa.ilblogdellestelle.it/t/activism/c/alberi-per-il-futuro/alberi-per-il-futuro-bari/
DTSTAMP:20260422T105935
UID:69e88df7326bd
X-ALT-DESC;FMTTYPE=text/html:Alberi per il Futuro - Bari<br>Edizione 2023<br>Viale Archimede\, 11\,   Bari (BA)<br>https://partecipa.ilblogdellestelle.it/t/activism/c/alberi-per-il-futuro/alberi-per-il-futuro-bari/
END:VEVENT
END:VCALENDAR