BEGIN:VCALENDAR
VERSION:2.0
PRODID:-//hacksw/handcal//NONSGML v1.0//EN
CALSCALE:GREGORIAN
BEGIN:VEVENT
BEGIN:VALARM
TRIGGER:-PT24H
REPEAT:1
DURATION:PT22H
ACTION:DISPLAY
END:VALARM
X-WR-TIMEZONE:Europe/Rome
SUMMARY:Pullman da Torino
LOCATION:Da  Corso Vittorio Emanuele II\, 131 H\,   Torino (TO)   a  Viale John Fitzgerald Kennedy\, 54\,   Napoli (NA)
DESCRIPTION:Pullman da Torino<br>Vieni a Italia 5 Stelle in pullman<br>Da  Corso Vittorio Emanuele II\, 131 H\,   Torino (TO)   a  Viale John Fitzgerald Kennedy\, 54\,   Napoli (NA)<br>https://partecipa.ilblogdellestelle.it/t/italia-5-stelle/c/a-italia-5-stelle-in-pullman/pullman-da-torino/
DTSTART:20191011T214500
DTEND:20191011T103000
URL;VALUE=URI:https://partecipa.ilblogdellestelle.it/t/italia-5-stelle/c/a-italia-5-stelle-in-pullman/pullman-da-torino/
DTSTAMP:20260421T062247
UID:69e6fb9755f5f
X-ALT-DESC;FMTTYPE=text/html:Pullman da Torino<br>Vieni a Italia 5 Stelle in pullman<br>Da  Corso Vittorio Emanuele II\, 131 H\,   Torino (TO)   a  Viale John Fitzgerald Kennedy\, 54\,   Napoli (NA)<br>https://partecipa.ilblogdellestelle.it/t/italia-5-stelle/c/a-italia-5-stelle-in-pullman/pullman-da-torino/
END:VEVENT
END:VCALENDAR